BEGIN:VCALENDAR
VERSION:2.0
PRODID:-//Expo Beauce - ECPv6.15.20//NONSGML v1.0//EN
CALSCALE:GREGORIAN
METHOD:PUBLISH
X-WR-CALNAME:Expo Beauce
X-ORIGINAL-URL:https://www.expobeauce.com
X-WR-CALDESC:Événements pour Expo Beauce
REFRESH-INTERVAL;VALUE=DURATION:PT1H
X-Robots-Tag:noindex
X-PUBLISHED-TTL:PT1H
BEGIN:VTIMEZONE
TZID:America/Halifax
BEGIN:DAYLIGHT
TZOFFSETFROM:-0400
TZOFFSETTO:-0300
TZNAME:ADT
DTSTART:20240310T060000
END:DAYLIGHT
BEGIN:STANDARD
TZOFFSETFROM:-0300
TZOFFSETTO:-0400
TZNAME:AST
DTSTART:20241103T050000
END:STANDARD
BEGIN:DAYLIGHT
TZOFFSETFROM:-0400
TZOFFSETTO:-0300
TZNAME:ADT
DTSTART:20250309T060000
END:DAYLIGHT
BEGIN:STANDARD
TZOFFSETFROM:-0300
TZOFFSETTO:-0400
TZNAME:AST
DTSTART:20251102T050000
END:STANDARD
BEGIN:DAYLIGHT
TZOFFSETFROM:-0400
TZOFFSETTO:-0300
TZNAME:ADT
DTSTART:20260308T060000
END:DAYLIGHT
BEGIN:STANDARD
TZOFFSETFROM:-0300
TZOFFSETTO:-0400
TZNAME:AST
DTSTART:20261101T050000
END:STANDARD
END:VTIMEZONE
BEGIN:VEVENT
DTSTART;TZID=America/Halifax:20250809T090000
DTEND;TZID=America/Halifax:20250809T220000
DTSTAMP:20260424T171216
CREATED:20250523T000615Z
LAST-MODIFIED:20250721T003814Z
UID:8137-1754730000-1754776800@www.expobeauce.com
SUMMARY:Samedi 9 août
DESCRIPTION:9h00 : Jugement Holstein en collaboration avec   (Pavillon de jugement) Suivi du Happy Hour  \n9h00 : Jugement des petits animaux du\n12h30 à 18h30 : Tournoi   Inscriptions dès maintenant pour réserver d’avance  (appuyez ici) en collaboration avec\n(Pavillon  )\n13h00 :  Tire de chevaux du en collaboration en  (Manège)\n13h00 à 16h00 : Animation pour enfants et maquillage avec  (Aréna)\n17h00 :  Concours d’attelage (1ère partie) en collaboration (Manège)\nConcours du fermier\nConcours mascarade\n19h30 : Soirée Country avec Chansonnier  Manu Côté  et    (Pavillon )\n20h00 : Tire de p’tits tracteurs modifiés du en collaboration avec   et (Manège)\n\nTirage d’une tire de p’tits tracteurs (billets en vente sur place)\nClasse amateur possible selon le nombre d’inscriptions (contactez-nous par courriel pour plus d’informations)
URL:https://www.expobeauce.com/event/samedi-9-aout/
CATEGORIES:Événements
END:VEVENT
END:VCALENDAR