BEGIN:VCALENDAR
VERSION:2.0
PRODID:-//Expo Beauce - ECPv6.15.20//NONSGML v1.0//EN
CALSCALE:GREGORIAN
METHOD:PUBLISH
X-WR-CALNAME:Expo Beauce
X-ORIGINAL-URL:https://www.expobeauce.com
X-WR-CALDESC:Événements pour Expo Beauce
REFRESH-INTERVAL;VALUE=DURATION:PT1H
X-Robots-Tag:noindex
X-PUBLISHED-TTL:PT1H
BEGIN:VTIMEZONE
TZID:America/Halifax
BEGIN:DAYLIGHT
TZOFFSETFROM:-0400
TZOFFSETTO:-0300
TZNAME:ADT
DTSTART:20240310T060000
END:DAYLIGHT
BEGIN:STANDARD
TZOFFSETFROM:-0300
TZOFFSETTO:-0400
TZNAME:AST
DTSTART:20241103T050000
END:STANDARD
BEGIN:DAYLIGHT
TZOFFSETFROM:-0400
TZOFFSETTO:-0300
TZNAME:ADT
DTSTART:20250309T060000
END:DAYLIGHT
BEGIN:STANDARD
TZOFFSETFROM:-0300
TZOFFSETTO:-0400
TZNAME:AST
DTSTART:20251102T050000
END:STANDARD
BEGIN:DAYLIGHT
TZOFFSETFROM:-0400
TZOFFSETTO:-0300
TZNAME:ADT
DTSTART:20260308T060000
END:DAYLIGHT
BEGIN:STANDARD
TZOFFSETFROM:-0300
TZOFFSETTO:-0400
TZNAME:AST
DTSTART:20261101T050000
END:STANDARD
END:VTIMEZONE
BEGIN:VEVENT
DTSTART;TZID=America/Halifax:20250808T090000
DTEND;TZID=America/Halifax:20250808T220000
DTSTAMP:20260424T165910
CREATED:20250522T233140Z
LAST-MODIFIED:20250709T132938Z
UID:8134-1754643600-1754690400@www.expobeauce.com
SUMMARY:Vendredi 8 août
DESCRIPTION:Bienvenue aux OTJ et aux CPE\n9h00 à 15h00 : Journée Camp de jour\n\n\nAteliers ludiques avec (Aréna)\n\n\nAtelier de décoration de biscuits avec Isabelle Dulac en collaboration avec  (Aréna)\n\n\nCircuit d’énigmes  (Site)\n\n\n11h00 à 15h00 : Compétitions de chevaux miniatures et de poneys en collaboration avec  (Pavillon de jugement)\n15h00 à 19h00 : Ranch Sorting (Manège)\n15h30 : Jugement des chevaux lourds (Belge\, Percheron et Clydesdale) (Pavillon de jugement)\n\n18h30 : Tailgate social des partenaires en collaboration avec \, \, et \n20h00 : Tire de Poneys du  en collaboration avec   (Manège)\n20h00 :  Soirée Rock avec\,  et   en collaboration avec  (Pavillon )
URL:https://www.expobeauce.com/event/vendredi-8-aout/
CATEGORIES:Événements
END:VEVENT
END:VCALENDAR